BEGIN:VCALENDAR
PRODID:-//github.com/rianjs/ical.net//NONSGML ical.net 4.0//EN
VERSION:2.0
BEGIN:VEVENT
DESCRIPTION:Details:\nhttps://bbyo.org/bbyo-near-you/regions/lonestar-regi
 on/austin-bbg-sisterhood-sleepover\n\nSummary:\nJoin Litzor BBG & Ra'naan
  BBG for sisterhood sleepover at the Austin JCC! Please bring pajamas\, s
 leeping bag\, pillow\, toiletries\, medication\, and snacks. Please pack 
 comfortable clothes that
DTEND:20190407T073000
DTSTAMP:20260423T200333Z
DTSTART:20190406T200000
LOCATION:Austin Texas
SEQUENCE:0
SUMMARY:Austin BBG Sisterhood Sleepover
UID:66417315-8b37-403a-b5d0-12aa97ce2938
END:VEVENT
END:VCALENDAR
