BEGIN:VCALENDAR
PRODID:-//github.com/rianjs/ical.net//NONSGML ical.net 4.0//EN
VERSION:2.0
BEGIN:VEVENT
DESCRIPTION:Details:\nhttps://bbyo.org/bbyo-near-you/regions/northern-regi
 on-east-dc-council/azaa-327
DTEND:20220327T150000
DTSTAMP:20260426T013204Z
DTSTART:20220327T110000
LOCATION:
SEQUENCE:0
SUMMARY:AZAA 327
UID:31752ee9-e551-484f-88e5-d5c5c5c9bde4
END:VEVENT
END:VCALENDAR
