BEGIN:VCALENDAR
PRODID:-//github.com/rianjs/ical.net//NONSGML ical.net 4.0//EN
VERSION:2.0
BEGIN:VEVENT
DESCRIPTION:Details:\nhttps://bbyo.org/bbyo-near-you/regions/mid-america-r
 egion-st-louis-council/aza-business-meetings
DTEND:20220405T200000
DTSTAMP:20260423T095144Z
DTSTART:20220405T190000
LOCATION:Chesterfield JCC
SEQUENCE:0
SUMMARY:AZA Business Meetings
UID:cbd50c96-b48d-47e4-97f4-4fb1bea50715
END:VEVENT
END:VCALENDAR
