BEGIN:VCALENDAR
PRODID:-//github.com/rianjs/ical.net//NONSGML ical.net 4.0//EN
VERSION:2.0
BEGIN:VEVENT
DESCRIPTION:Details:\nhttps://bbyo.org/bbyo-near-you/regions/pacific-weste
 rn-region/pwr-fraternity-sisterhood-weekend-2017-flash-sale!
DTEND:20170326T120000
DTSTAMP:20260425T235408Z
DTSTART:20170324T170000
LOCATION:Camp Bob Waldorf
SEQUENCE:0
SUMMARY:PWR Fraternity/Sisterhood Weekend 2017 FLASH SALE! (PC 3010)
UID:07ea5729-3dd3-49bb-83dc-37b89db922e4
END:VEVENT
END:VCALENDAR
