BEGIN:VCALENDAR
PRODID:-//github.com/rianjs/ical.net//NONSGML ical.net 4.0//EN
VERSION:2.0
BEGIN:VEVENT
DESCRIPTION:Details:\nhttps://bbyo.org/bbyo-near-you/regions/great-midwest
 -region/camp-visit-beber
DTEND;VALUE=DATE:20150823
DTSTAMP:20260425T182916Z
DTSTART;VALUE=DATE:20150823
LOCATION:
SEQUENCE:0
SUMMARY:Camp Visit- Beber
UID:385d3615-794c-49c0-939a-e9a1dbb3d6a1
END:VEVENT
END:VCALENDAR
