BEGIN:VCALENDAR
PRODID:-//github.com/rianjs/ical.net//NONSGML ical.net 4.0//EN
VERSION:2.0
BEGIN:VEVENT
DESCRIPTION:Details:\nhttps://bbyo.org/bbyo-near-you/regions/mid-america-r
 egion-north-star-council/monday-meeting-11-21
DTEND;VALUE=DATE:20051121
DTSTAMP:20260420T180515Z
DTSTART;VALUE=DATE:20051121
LOCATION:
SEQUENCE:0
SUMMARY:Monday Meeting 11/21
UID:95ffa614-daf9-4fdd-8ba2-62621c72bba5
END:VEVENT
END:VCALENDAR
