BEGIN:VCALENDAR
PRODID:-//github.com/rianjs/ical.net//NONSGML ical.net 4.0//EN
VERSION:2.0
BEGIN:VEVENT
DESCRIPTION:Details:\nhttps://bbyo.org/bbyo-near-you/regions/evergreen-reg
 ion/seattle-bbg-founder-s-day-event
DTEND:20240419T210000
DTSTAMP:20260423T200644Z
DTSTART:20240419T183000
LOCATION:Mercer Island Washington
SEQUENCE:0
SUMMARY:Seattle BBG Founder's Day Event
UID:1e512d84-31d5-4400-8b0f-3bd7593a2aaa
END:VEVENT
END:VCALENDAR
