BEGIN:VCALENDAR
PRODID:-//github.com/rianjs/ical.net//NONSGML ical.net 4.0//EN
VERSION:2.0
BEGIN:VEVENT
DESCRIPTION:Details:\nhttps://bbyo.org/bbyo-near-you/regions/lonestar-regi
 on/houston-bbyo-fall-2023-kickoff\n\nSummary:\nIt's been a long summer\, 
 but it's time to get the ball rolling at Fall Kickoff! See your BBYO frie
 nds and make some new ones at this event open to all Jewish high schooler
 s in the greater Houston area.\n\nEvening will include bowling\, pizza\, 
 soda\, and your excitement to kick off the year.\n\nLet's have an unforge
 tta-bowl night!\n\nQuestions? Reach out to lsr@bbyo.org
DTEND:20230826T210000
DTSTAMP:20260423T001929Z
DTSTART:20230826T190000
LOCATION:Stafford Texas
SEQUENCE:0
SUMMARY:Houston BBYO Fall 2023 Kickoff
UID:f1a03dbb-121a-48d3-a316-2ca4821dbf83
END:VEVENT
END:VCALENDAR
