BEGIN:VCALENDAR
PRODID:-//github.com/rianjs/ical.net//NONSGML ical.net 4.0//EN
VERSION:2.0
BEGIN:VEVENT
DESCRIPTION:Details:\nhttps://bbyo.org/bbyo-near-you/regions/big-apple-reg
 ion/regional-cruise-to-nowhere\n\nSummary:\nBig Apple Region members come
  on down!  The Annual Cruise To Nowhere sails from Manhattan this year!! 
  Come dance the night away at this end of the year extraveganza!
DTEND:20060521T190000
DTSTAMP:20260426T030229Z
DTSTART:20060521T190000
LOCATION:New York City
SEQUENCE:0
SUMMARY:Regional Cruise To Nowhere
UID:9cbe3e0e-a048-48a6-a89a-91d52b958459
END:VEVENT
END:VCALENDAR
