BEGIN:VCALENDAR
PRODID:-//github.com/rianjs/ical.net//NONSGML ical.net 4.0//EN
VERSION:2.0
BEGIN:VEVENT
DESCRIPTION:Details:\nhttps://bbyo.org/bbyo-near-you/regions/rocky-mountai
 n-region/global-shabbat-service-and-speaker
DTEND:20221209T210000
DTSTAMP:20260424T062755Z
DTSTART:20221209T180000
LOCATION:Temple Sinai
SEQUENCE:0
SUMMARY:Global Shabbat Service and Speaker
UID:4bf62a6a-2edc-4e71-b815-dbee25d3e4a4
END:VEVENT
END:VCALENDAR
