BEGIN:VCALENDAR
PRODID:-//github.com/rianjs/ical.net//NONSGML ical.net 4.0//EN
VERSION:2.0
BEGIN:VEVENT
DESCRIPTION:Details:\nhttps://bbyo.org/bbyo-near-you/regions/lake-ontario-
 region/camp-mit-ait\n\nSummary:\nJoin us for an overnight at the JCC to h
 ang out with friends\, meet other new members from across Toronto and Yor
 k Region\, discover the rich history and traditions of BBYO\, and more!\n
DTEND:20190331T110000
DTSTAMP:20260420T102255Z
DTSTART:20190330T200000
LOCATION:Schwartz/Reisman Centre
SEQUENCE:0
SUMMARY:Camp MIT/AIT
UID:97584036-bcb6-4246-aee9-c343776560d0
END:VEVENT
END:VCALENDAR
