BEGIN:VCALENDAR
PRODID:-//github.com/rianjs/ical.net//NONSGML ical.net 4.0//EN
VERSION:2.0
BEGIN:VEVENT
DESCRIPTION:Details:\nhttps://bbyo.org/bbyo-near-you/regions/rocky-mountai
 n-region/ic-swag-pack-2023
DTEND:20230216T120000
DTSTAMP:20260423T200644Z
DTSTART;VALUE=DATE:20230213
LOCATION:Pick Up Location to be announced
SEQUENCE:0
SUMMARY:IC Swag Pack 2023
UID:61aabbd8-263b-4e48-b76d-5ec2ffa7ca38
END:VEVENT
END:VCALENDAR
