BEGIN:VCALENDAR
PRODID:-//github.com/rianjs/ical.net//NONSGML ical.net 4.0//EN
VERSION:2.0
BEGIN:VEVENT
DESCRIPTION:Details:\nhttps://bbyo.org/bbyo-near-you/regions/liberty-regio
 n/virtual-parent-gathering-delaware-and-westchester
DTEND:20230927T203000
DTSTAMP:20260420T102318Z
DTSTART:20230927T193000
LOCATION:Virtual
SEQUENCE:0
SUMMARY:Virtual Parent Gathering - Delaware and Westchester
UID:bb3c83e2-7047-4b67-a5dc-031143335a5c
END:VEVENT
END:VCALENDAR
