BEGIN:VCALENDAR
PRODID:-//github.com/rianjs/ical.net//NONSGML ical.net 4.0//EN
VERSION:2.0
BEGIN:VEVENT
DESCRIPTION:Details:\nhttps://bbyo.org/bbyo-near-you/regions/northern-regi
 on-east-dc-council/nre-new-member-weekend-2017-(pc3020)\n\nSummary:\nNew 
 Member Weekend is an amazing kickoff to your BBYO Career! Come join over 
 150 new BBYO members from all over Baltimore\, Northern Virginia\, and DC
 \, like yourself\, for a weekend full of fun
DTEND:20170326T120000
DTSTAMP:20260423T200906Z
DTSTART:20170324T160000
LOCATION:Capital Camps
SEQUENCE:0
SUMMARY:NRE New Member Weekend 2017 (PC3020)
UID:5f1f314e-dd2e-4e09-95be-3ef1505d15ff
END:VEVENT
END:VCALENDAR
