BEGIN:VCALENDAR
PRODID:-//github.com/rianjs/ical.net//NONSGML ical.net 4.0//EN
VERSION:2.0
BEGIN:VEVENT
DESCRIPTION:Details:\nhttps://bbyo.org/bbyo-near-you/regions/wisconsin-reg
 ion/wi-aza-admirals-game
DTEND:20211106T210000
DTSTAMP:20260420T132350Z
DTSTART:20211106T174500
LOCATION:UW-Milwaukee Panther Arena
SEQUENCE:0
SUMMARY:WI-AZA Admirals Game
UID:77122c2e-8868-459b-944a-3e4472e8461c
END:VEVENT
END:VCALENDAR
