BEGIN:VCALENDAR
PRODID:-//github.com/rianjs/ical.net//NONSGML ical.net 4.0//EN
VERSION:2.0
BEGIN:VEVENT
DESCRIPTION:Details:\nhttps://bbyo.org/bbyo-near-you/regions/manhattan-reg
 ion/manhattan-winter-convention-2022
DTEND:20221211T140000
DTSTAMP:20260424T105526Z
DTSTART:20221209T150000
LOCATION:Elizabeth New Jersey
SEQUENCE:0
SUMMARY:Manhattan Winter Convention 2022
UID:a001cda1-f409-4337-8d05-a296692cd4ba
END:VEVENT
END:VCALENDAR
