BEGIN:VCALENDAR
PRODID:-//github.com/rianjs/ical.net//NONSGML ical.net 4.0//EN
VERSION:2.0
BEGIN:VEVENT
DESCRIPTION:Details:\nhttps://bbyo.org/bbyo-near-you/regions/mid-america-r
 egion-kansas-city-council/kcc-ait-mit-overnight\n\nSummary:\nFun\, learni
 ng\, traditions\, and more this is a sleepover not to be missed\, just fo
 r our Freshman and Sophomore members! We are bringing back our annual AIT
  & MIT overnight where you will bond with your class\, learn BBYO cheers\
 , celebrate Shabbat together\, participate in meaningful programming\, be
  inducted into KC BBYO\, AND MORE!
DTEND:20221001T100000
DTSTAMP:20260422T101408Z
DTSTART:20220930T190000
LOCATION:Leawood Kansas
SEQUENCE:0
SUMMARY:KCC AIT & MIT Overnight
UID:b6c2a922-8bf9-4397-a946-f3b701ff56f4
END:VEVENT
END:VCALENDAR
