BEGIN:VCALENDAR
PRODID:-//github.com/rianjs/ical.net//NONSGML ical.net 4.0//EN
VERSION:2.0
BEGIN:VEVENT
DESCRIPTION:Details:\nhttps://bbyo.org/bbyo-near-you/regions/northern-regi
 on-east-dc-council/nre-regional-convention-2021\n\nSummary:\nFrom January
  15-18 teens from across Northern Region East will gather for Regional Co
 nvention 2021 in Alexandria\, VA. Save the date: Registration ($65) OPENS
  Sunday\, December 6 at 5:00pm.\n\nT
DTEND:20210118T120000
DTSTAMP:20260425T183054Z
DTSTART:20210115T180000
LOCATION:Zoom
SEQUENCE:0
SUMMARY:NRE Regional Convention 2021
UID:288a1bd9-1a68-4a15-b99d-d2f928e321b8
END:VEVENT
END:VCALENDAR
