BEGIN:VCALENDAR
PRODID:-//github.com/rianjs/ical.net//NONSGML ical.net 4.0//EN
VERSION:2.0
BEGIN:VEVENT
DESCRIPTION:Details:\nhttps://bbyo.org/bbyo-near-you/regions/delta-region/
 nashville-bbyo-connect-laser-quest-kickoff\n\nSummary:\nCalling all 6th-8
 th grade Jewish teens in Nashville! Come to Laser quest from 1:30-3:45pm 
 on October 28th for an afternoon of Laser tag\, some Halloween themed des
 ert wars\, and friends.
DTEND:20181028T154500
DTSTAMP:20260421T082245Z
DTSTART:20181028T133000
LOCATION:Nashville Tennessee
SEQUENCE:0
SUMMARY:Nashville BBYO Connect Laser Quest Kickoff
UID:a090884f-46ec-4ebe-8f6c-62a3f5d34c15
END:VEVENT
END:VCALENDAR
