BEGIN:VCALENDAR
PRODID:-//github.com/rianjs/ical.net//NONSGML ical.net 4.0//EN
VERSION:2.0
BEGIN:VEVENT
DESCRIPTION:Details:\nhttps://bbyo.org/bbyo-near-you/regions/miami-region/
 miami-marathon-madness-mm16
DTEND;VALUE=DATE:20160416
DTSTAMP:20260423T114518Z
DTSTART;VALUE=DATE:20160416
LOCATION:
SEQUENCE:0
SUMMARY:Miami Marathon Madness MM16
UID:a939f607-a73a-419f-9ef6-568fdcd6ef8e
END:VEVENT
END:VCALENDAR
