BEGIN:VCALENDAR
PRODID:-//github.com/rianjs/ical.net//NONSGML ical.net 4.0//EN
VERSION:2.0
BEGIN:VEVENT
DESCRIPTION:Details:\nhttps://bbyo.org/bbyo-near-you/regions/northern-regi
 on-east-dc-council/d-c-council-chapter-meetings-(2)\n\nSummary:\nChapter 
 meetings at the JCC!
DTEND;VALUE=DATE:20061023
DTSTAMP:20260422T034737Z
DTSTART:20061023T190000
LOCATION:JCC of Greater Washington
SEQUENCE:0
SUMMARY:D.C. Council - Chapter Meetings
UID:58fb78a3-cf35-4d3c-a2f1-51d1f4ed1eab
END:VEVENT
END:VCALENDAR
