BEGIN:VCALENDAR
PRODID:-//github.com/rianjs/ical.net//NONSGML ical.net 4.0//EN
VERSION:2.0
BEGIN:VEVENT
DESCRIPTION:Details:\nhttps://bbyo.org/bbyo-near-you/regions/new-england-r
 egion/ner-among-the-8th-graders\,-meet-the-imposters
DTEND:20210220T210000
DTSTAMP:20260421T223737Z
DTSTART:20210220T200000
LOCATION:Zoom
SEQUENCE:0
SUMMARY:NER Among the 8th Graders\, Meet the Imposters
UID:785b4871-0a6c-46a5-b2c2-e8e9cc4468d6
END:VEVENT
END:VCALENDAR
