BEGIN:VCALENDAR
PRODID:-//github.com/rianjs/ical.net//NONSGML ical.net 4.0//EN
VERSION:2.0
BEGIN:VEVENT
DESCRIPTION:Details:\nhttps://bbyo.org/bbyo-near-you/regions/michigan-regi
 on/mi-general-board-retreat-2017-(pc-4000)
DTEND:20170205T100000
DTSTAMP:20260422T124735Z
DTSTART:20170203T160000
LOCATION:
SEQUENCE:0
SUMMARY:MI General Board Retreat 2017 (PC 4000)
UID:b5578b02-fc59-495e-9fbf-25953d15bcd9
END:VEVENT
END:VCALENDAR
