BEGIN:VCALENDAR
PRODID:-//github.com/rianjs/ical.net//NONSGML ical.net 4.0//EN
VERSION:2.0
BEGIN:VEVENT
DESCRIPTION:Details:\nhttps://bbyo.org/bbyo-near-you/regions/central-regio
 n-west/crw-fy17-ucp-(pc-3080)\n\nSummary:\nThe Ultimate Convention Packag
 e (UCP) is your way to save on all three conventions! By paying up front\
 , you are locking in lowest possible cost per convention and a guaranteed
  spot at each o
DTEND:20161002T040000
DTSTAMP:20260423T200725Z
DTSTART:20160930T090000
LOCATION:Fremont\, Petaluma\, San Ramon
SEQUENCE:0
SUMMARY:CRW FY17 UCP (PC 3080)
UID:a472da86-fe91-4de7-8be3-1b0b8488e523
END:VEVENT
END:VCALENDAR
