BEGIN:VCALENDAR
PRODID:-//github.com/rianjs/ical.net//NONSGML ical.net 4.0//EN
VERSION:2.0
BEGIN:VEVENT
DESCRIPTION:Details:\nhttps://bbyo.org/bbyo-near-you/regions/gold-coast-re
 gion/chapter-party-to-the-program
DTEND:20230827T150000
DTSTAMP:20260422T003715Z
DTSTART:20230827T110000
LOCATION:Davie Florida
SEQUENCE:0
SUMMARY:Chapter Party to the Program
UID:c9de0f57-b603-4312-b843-f01959d9d407
END:VEVENT
END:VCALENDAR
