BEGIN:VCALENDAR
PRODID:-//github.com/rianjs/ical.net//NONSGML ical.net 4.0//EN
VERSION:2.0
BEGIN:VEVENT
DESCRIPTION:Details:\nhttps://bbyo.org/bbyo-near-you/regions/north-texas-o
 klahoma-region/nto-region-8th-grade-9th-grade-convention-(pc3000
DTEND:20170205T100000
DTSTAMP:20260422T221737Z
DTSTART:20170203T180000
LOCATION:Greene Family Camp
SEQUENCE:0
SUMMARY:NTO Region 8th Grade/ 9th Grade Convention (PC3000)
UID:0fee8b69-0fbd-4935-8281-a0d71795593f
END:VEVENT
END:VCALENDAR
