BEGIN:VCALENDAR
PRODID:-//github.com/rianjs/ical.net//NONSGML ical.net 4.0//EN
VERSION:2.0
BEGIN:VEVENT
DESCRIPTION:Details:\nhttps://bbyo.org/bbyo-near-you/regions/north-texas-o
 klahoma-region/40th-regional-board-candidate-call
DTEND:20231018T193000
DTSTAMP:20260423T081839Z
DTSTART:20231018T183000
LOCATION:Zoom
SEQUENCE:0
SUMMARY:40th Regional Board Candidate Call
UID:ff5f30bb-bb38-4d49-a35f-3c44f77dfbd4
END:VEVENT
END:VCALENDAR
