BEGIN:VCALENDAR
PRODID:-//github.com/rianjs/ical.net//NONSGML ical.net 4.0//EN
VERSION:2.0
BEGIN:VEVENT
DESCRIPTION:Details:\nhttps://bbyo.org/bbyo-near-you/regions/rocky-mountai
 n-region/denver-chapter-meetings-(36)
DTEND:20231114T203000
DTSTAMP:20260422T124758Z
DTSTART:20231114T190000
LOCATION:Temple Emanuel
SEQUENCE:0
SUMMARY:Denver Chapter Meetings
UID:d6188f51-795d-4138-bfc2-b2db68b7d10e
END:VEVENT
END:VCALENDAR
