BEGIN:VCALENDAR
PRODID:-//github.com/rianjs/ical.net//NONSGML ical.net 4.0//EN
VERSION:2.0
BEGIN:VEVENT
DESCRIPTION:Details:\nhttps://bbyo.org/bbyo-near-you/regions/central-regio
 n-west/bbyo-central-region-west-fall-kickoff-2019!
DTEND:20190907T210000
DTSTAMP:20260425T182826Z
DTSTART:20190907T180000
LOCATION:San Francisco  California
SEQUENCE:0
SUMMARY:BBYO Central Region West: Fall Kickoff 2019!
UID:057b5dec-721c-41ce-acf2-1be165579119
END:VEVENT
END:VCALENDAR
