BEGIN:VCALENDAR
PRODID:-//github.com/rianjs/ical.net//NONSGML ical.net 4.0//EN
VERSION:2.0
BEGIN:VEVENT
DESCRIPTION:Details:\nhttps://bbyo.org/bbyo-near-you/regions/mountain-regi
 on/utah-bbyo-fall-kickoff
DTEND:20240825T183000
DTSTAMP:20260422T221543Z
DTSTART:20240825T160000
LOCATION:Address given to registered teens
SEQUENCE:0
SUMMARY:Utah BBYO Fall Kickoff
UID:faf28540-8d23-46a7-a6ff-6c891e8d5330
END:VEVENT
END:VCALENDAR
