BEGIN:VCALENDAR
PRODID:-//github.com/rianjs/ical.net//NONSGML ical.net 4.0//EN
VERSION:2.0
BEGIN:VEVENT
DESCRIPTION:Details:\nhttps://bbyo.org/bbyo-near-you/regions/eastern-regio
 n/charlotte-fall-fest-hornets-vs-celtics\n\nSummary:\nJoin Charlotte BBYO
  for an exclusive night of basketball as the Charlotte Hornets take on th
 e Boston Celtics! This special event is open to 8th graders and any teens
  who have not yet joined BBYO. This event is specially priced at $18 and 
 includes transportation to and from the game\, a Hornets t-shirt\, an up 
 close look at the Hornets pre-game warm up and hearing from Charlotte Hor
 nets executives. Reserve your spot today as a limited number of tickets a
 re available. For any questions please email lrevenson@bbyo.org
DTEND:20181119T220000
DTSTAMP:20260419T123320Z
DTSTART:20181119T161500
LOCATION:Spectrum Center
SEQUENCE:0
SUMMARY:Charlotte Fall Fest: Hornets vs. Celtics
UID:3f80ce6f-2819-45dd-8573-4513d1af6ad3
END:VEVENT
END:VCALENDAR
