BEGIN:VCALENDAR
PRODID:-//github.com/rianjs/ical.net//NONSGML ical.net 4.0//EN
VERSION:2.0
BEGIN:VEVENT
DESCRIPTION:Details:\nhttps://bbyo.org/bbyo-near-you/regions/wisconsin-reg
 ion/wi-aza-sophomore-senior-dinner
DTEND;VALUE=DATE:20151021
DTSTAMP:20260425T123017Z
DTSTART;VALUE=DATE:20151021
LOCATION:
SEQUENCE:0
SUMMARY:WI - AZA Sophomore/Senior Dinner
UID:ad501662-fd2c-467e-a558-5d3ed54bbb5d
END:VEVENT
END:VCALENDAR
