BEGIN:VCALENDAR
PRODID:-//github.com/rianjs/ical.net//NONSGML ical.net 4.0//EN
VERSION:2.0
BEGIN:VEVENT
DESCRIPTION:Details:\nhttps://bbyo.org/bbyo-near-you/regions/central-regio
 n-west/crw-january-execs
DTEND:20230122T160000
DTSTAMP:20260422T101255Z
DTSTART:20230122T100000
LOCATION:PJCC
SEQUENCE:0
SUMMARY:CRW January Execs
UID:0e102b2c-9b92-499c-a07d-1d75526d05cc
END:VEVENT
END:VCALENDAR
