BEGIN:VCALENDAR
PRODID:-//github.com/rianjs/ical.net//NONSGML ical.net 4.0//EN
VERSION:2.0
BEGIN:VEVENT
DESCRIPTION:Details:\nhttps://bbyo.org/bbyo-near-you/regions/wisconsin-reg
 ion/oneg-3-24-2006
DTEND:20060324T031500
DTSTAMP:20260420T111631Z
DTSTART:20060324T031500
LOCATION:Dugout
SEQUENCE:0
SUMMARY:Oneg 3.24.2006
UID:6f944062-6a59-4c8e-8d77-071d20afbce8
END:VEVENT
END:VCALENDAR
