BEGIN:VCALENDAR
PRODID:-//github.com/rianjs/ical.net//NONSGML ical.net 4.0//EN
VERSION:2.0
BEGIN:VEVENT
DESCRIPTION:Details:\nhttps://bbyo.org/bbyo-near-you/regions/lake-ontario-
 region/leadership-labs-4-(1)\n\nSummary:\nFor more information please con
 tact info@bbyo.ca
DTEND:20200419T170000
DTSTAMP:20260420T132329Z
DTSTART:20200419T140000
LOCATION:Schwartz/Reisman Centre
SEQUENCE:0
SUMMARY:Leadership Labs #4
UID:04108aed-7176-46bb-b04b-f2fa7fbd23e5
END:VEVENT
END:VCALENDAR
