BEGIN:VCALENDAR
PRODID:-//github.com/rianjs/ical.net//NONSGML ical.net 4.0//EN
VERSION:2.0
BEGIN:VEVENT
DESCRIPTION:Details:\nhttps://bbyo.org/bbyo-near-you/regions/north-florida
 -region/spring-convention-2006\n\nSummary:\nCalling all 8th-12th graders!
  Come shmooze with old friends and meet new ones. Spring Convention 2006 
 is going to be a blast! Convention includes Senior Life and Mid-States.\n
 \n*Cost include
DTEND:20060430T130000
DTSTAMP:20260425T183126Z
DTSTART:20060428T180000
LOCATION:Radisson Worldgate Resort
SEQUENCE:0
SUMMARY:Spring Convention 2006
UID:c1574039-c1b9-49c2-aab2-32f21a7aa598
END:VEVENT
END:VCALENDAR
