BEGIN:VCALENDAR
PRODID:-//github.com/rianjs/ical.net//NONSGML ical.net 4.0//EN
VERSION:2.0
BEGIN:VEVENT
DESCRIPTION:Details:\nhttps://bbyo.org/bbyo-near-you/regions/central-regio
 n-west/crw-presents-beau-sweetheart-2018-a-night-under-t
DTEND:20180317T000100
DTSTAMP:20260422T221712Z
DTSTART;VALUE=DATE:20180317
LOCATION:
SEQUENCE:0
SUMMARY:CRW Presents Beau/Sweetheart 2018: A Night Under the Stars
UID:efd582e2-cbe9-4983-9c97-5d26096ec249
END:VEVENT
END:VCALENDAR
