BEGIN:VCALENDAR
PRODID:-//github.com/rianjs/ical.net//NONSGML ical.net 4.0//EN
VERSION:2.0
BEGIN:VEVENT
DESCRIPTION:Details:\nhttps://bbyo.org/bbyo-near-you/regions/mid-america-r
 egion-north-star-council/north-star-s-weekly-program-(6)
DTEND:20240307T200000
DTSTAMP:20260423T195701Z
DTSTART:20240307T190000
LOCATION:Minneapolis Minnesota
SEQUENCE:0
SUMMARY:North Star's Weekly Program
UID:9be60f4c-1499-4ebb-82e4-1c8086bb3292
END:VEVENT
END:VCALENDAR
