BEGIN:VCALENDAR
PRODID:-//github.com/rianjs/ical.net//NONSGML ical.net 4.0//EN
VERSION:2.0
BEGIN:VEVENT
DESCRIPTION:Details:\nhttps://bbyo.org/bbyo-near-you/regions/liberty-regio
 n/rlti-(3)\n\nSummary:\nRegional Leadership Training Institute - This con
 vention is for MANDATORY for ALL Regional or Chapter Officers and those a
 pplying for Regional Chair positions.
DTEND:20060910T130000
DTSTAMP:20260420T102411Z
DTSTART:20060908T160000
LOCATION:Camp Green Lane
SEQUENCE:0
SUMMARY:RLTI
UID:61580a6e-b6fd-49f1-9146-87111c0f5529
END:VEVENT
END:VCALENDAR
