BEGIN:VCALENDAR
PRODID:-//github.com/rianjs/ical.net//NONSGML ical.net 4.0//EN
VERSION:2.0
BEGIN:VEVENT
DESCRIPTION:Details:\nhttps://bbyo.org/bbyo-near-you/regions/liberty-regio
 n/winter-regional-board-training-2022
DTEND:20220130T173000
DTSTAMP:20260421T092920Z
DTSTART:20220130T130000
LOCATION:
SEQUENCE:0
SUMMARY:Winter Regional Board Training 2022
UID:fcbcebda-8db4-409d-8269-969d8f473801
END:VEVENT
END:VCALENDAR
