BEGIN:VCALENDAR
PRODID:-//github.com/rianjs/ical.net//NONSGML ical.net 4.0//EN
VERSION:2.0
BEGIN:VEVENT
DESCRIPTION:Details:\nhttps://bbyo.org/bbyo-near-you/regions/kentucky-indi
 ana-ohio-region/kio-regionals-2019\n\nSummary:\nDon't miss out on one of 
 KIO's biggest and most exciting conventions of the year! Join your fellow
  Alephs and B’nai Brith Girls as chapters from Cincinnati\, Columbus\, Da
 yton\, Indianapolis\, a
DTEND:20190121T120000
DTSTAMP:20260422T113305Z
DTSTART:20190118T180000
LOCATION:Hebron Kentucky
SEQUENCE:0
SUMMARY:KIO Regionals 2019
UID:c09783c6-502f-42a2-8ecc-df84b5ba801a
END:VEVENT
END:VCALENDAR
