BEGIN:VCALENDAR
PRODID:-//github.com/rianjs/ical.net//NONSGML ical.net 4.0//EN
VERSION:2.0
BEGIN:VEVENT
DESCRIPTION:Details:\nhttps://bbyo.org/bbyo-near-you/regions/big-apple-reg
 ion/lego-battle-🤖-(kallah)
DTEND:20231109T203000
DTSTAMP:20260423T093652Z
DTSTART:20231109T190000
LOCATION:Check your email or texts for time and location
SEQUENCE:0
SUMMARY:Lego Battle 🤖 (Kallah)
UID:1ec301b6-099a-466c-879f-ecf94ace07b4
END:VEVENT
END:VCALENDAR
