BEGIN:VCALENDAR
PRODID:-//github.com/rianjs/ical.net//NONSGML ical.net 4.0//EN
VERSION:2.0
BEGIN:VEVENT
DESCRIPTION:Details:\nhttps://bbyo.org/bbyo-near-you/regions/mid-america-r
 egion-kansas-city-council/mar-kc-leadership-training-overnight\n\nSummary
 :\nOur Board training overnight will be a mix of hand on leadership and p
 osition training\, program and calendar planning\, team building activiti
 es and more! Meals are included.
DTEND:20190811T160000
DTSTAMP:20260423T200719Z
DTSTART:20190810T180000
LOCATION:Overland Park Kansas
SEQUENCE:0
SUMMARY:MAR KC Leadership Training Overnight
UID:d083d753-bdd5-455d-baca-5eaa69eb07ef
END:VEVENT
END:VCALENDAR
