BEGIN:VCALENDAR
PRODID:-//github.com/rianjs/ical.net//NONSGML ical.net 4.0//EN
VERSION:2.0
BEGIN:VEVENT
DESCRIPTION:Details:\nhttps://bbyo.org/bbyo-near-you/regions/mid-america-r
 egion-omaha-council/omaha-global-shabbat-2023\n\nSummary:\nJoin us for a 
 magical Havdalah.  We will celebrate Global Shabbat and the start to a sw
 eet new week with a teen lead Havdalah service followed by a private scre
 ening of the opening weekend premier of "Wonka".
DTEND:20231216T205000
DTSTAMP:20260422T000238Z
DTSTART:20231216T175000
LOCATION:Omaha Nebraska
SEQUENCE:0
SUMMARY:Omaha Global Shabbat 2023
UID:6f3e3b0d-7bc4-42a0-86fc-77a4c186bada
END:VEVENT
END:VCALENDAR
