BEGIN:VCALENDAR
PRODID:-//github.com/rianjs/ical.net//NONSGML ical.net 4.0//EN
VERSION:2.0
BEGIN:VEVENT
DESCRIPTION:Details:\nhttps://bbyo.org/bbyo-near-you/regions/northern-regi
 on-east-baltimore-council/open-mic-night!!\n\nSummary:\nBaltimore Council
  BBYO presents: "OPEN MIC NIGHT". Come to this fun\, and shill coffee-hou
 se-like experience. All are welcome to participate.
DTEND:20061118T230000
DTSTAMP:20260423T042746Z
DTSTART:20061118T210000
LOCATION:Mitchell David Teen Center
SEQUENCE:0
SUMMARY:OPEN MIC NIGHT!!
UID:9ac51950-5762-43d7-9a9a-bc34aca29da9
END:VEVENT
END:VCALENDAR
