BEGIN:VCALENDAR
PRODID:-//github.com/rianjs/ical.net//NONSGML ical.net 4.0//EN
VERSION:2.0
BEGIN:VEVENT
DESCRIPTION:Details:\nhttps://bbyo.org/bbyo-near-you/regions/nassau-suffol
 k-region/nsr-summer-camp-open-house
DTEND:20230402T153000
DTSTAMP:20260422T054739Z
DTSTART:20230402T133000
LOCATION:Syosset New York
SEQUENCE:0
SUMMARY:NSR Summer Camp Open House
UID:917591b8-27ea-4c17-9d35-1753aa1610ee
END:VEVENT
END:VCALENDAR
