BEGIN:VCALENDAR
PRODID:-//github.com/rianjs/ical.net//NONSGML ical.net 4.0//EN
VERSION:2.0
BEGIN:VEVENT
DESCRIPTION:Details:\nhttps://bbyo.org/bbyo-near-you/regions/north-texas-o
 klahoma-region/nto-mit-ait-and-connect-lock-in-(pc3030)
DTEND:20151018T080000
DTSTAMP:20260424T183548Z
DTSTART:20151017T200000
LOCATION:Amazing Jake's
SEQUENCE:0
SUMMARY:NTO Mit/Ait and Connect Lock-in (PC3030)
UID:977941f8-4479-42b5-a5c7-3124ae8c3db3
END:VEVENT
END:VCALENDAR
