BEGIN:VCALENDAR
PRODID:-//github.com/rianjs/ical.net//NONSGML ical.net 4.0//EN
VERSION:2.0
BEGIN:VEVENT
DESCRIPTION:Details:\nhttps://bbyo.org/bbyo-near-you/regions/manhattan-reg
 ion/new-member-pre-convention-meetup
DTEND:20240515T200000
DTSTAMP:20260425T235216Z
DTSTART:20240515T183000
LOCATION:Lucy's House - address will be texted after registration
SEQUENCE:0
SUMMARY:New Member Pre-Convention Meetup
UID:e17ffdb3-6d49-4a0e-8c9c-32138427962d
END:VEVENT
END:VCALENDAR
