BEGIN:VCALENDAR
PRODID:-//github.com/rianjs/ical.net//NONSGML ical.net 4.0//EN
VERSION:2.0
BEGIN:VEVENT
DESCRIPTION:Details:\nhttps://bbyo.org/bbyo-near-you/regions/central-regio
 n-west/shomrim-shlichim-retreat
DTEND:20230827T170000
DTSTAMP:20260420T100603Z
DTSTART:20230827T140000
LOCATION:Leo J. Memorial park
SEQUENCE:0
SUMMARY:Shomrim/Shlichim retreat
UID:1051ac98-e797-4c8b-b515-22d81ce1a7bc
END:VEVENT
END:VCALENDAR
