BEGIN:VCALENDAR
PRODID:-//github.com/rianjs/ical.net//NONSGML ical.net 4.0//EN
VERSION:2.0
BEGIN:VEVENT
DESCRIPTION:Details:\nhttps://bbyo.org/bbyo-near-you/regions/south-jersey-
 region/april-bbyo-night\n\nSummary:\nJoin SJR once a month as we gather a
 t the Katz JCC for a BBYO night. Chapters individually have an hour and t
 hen the region has an hour as a whole. Programming varies monthly\, but B
 BYO\nnight
DTEND:20190413T210000
DTSTAMP:20260421T113531Z
DTSTART:20190413T190000
LOCATION:Katz JCC
SEQUENCE:0
SUMMARY:April BBYO Night
UID:39852ea0-3bed-41f6-a17a-65172fbe3685
END:VEVENT
END:VCALENDAR
